BEGIN:VCALENDAR
VERSION:2.0
PRODID:-//PRISKA PASQUER - ECPv4.9.12//NONSGML v1.0//EN
CALSCALE:GREGORIAN
METHOD:PUBLISH
X-WR-CALNAME:PRISKA PASQUER
X-ORIGINAL-URL:https://priskapasquer.art
X-WR-CALDESC:Events for PRISKA PASQUER
BEGIN:VTIMEZONE
TZID:Europe/Helsinki
BEGIN:DAYLIGHT
TZOFFSETFROM:+0200
TZOFFSETTO:+0300
TZNAME:EEST
DTSTART:20190331T010000
END:DAYLIGHT
BEGIN:STANDARD
TZOFFSETFROM:+0300
TZOFFSETTO:+0200
TZNAME:EET
DTSTART:20191027T010000
END:STANDARD
END:VTIMEZONE
BEGIN:VEVENT
DTSTART;VALUE=DATE:20191107
DTEND;VALUE=DATE:20191108
DTSTAMP:20260425T033819
CREATED:20191025T125158Z
LAST-MODIFIED:20191025T125301Z
UID:27497-1573084800-1573171199@priskapasquer.art
SUMMARY:Fair
DESCRIPTION:PARIS PHOTO 2019/ BOOTH B20 \n12 noon – 8 pm \n  \nGrand Palais\, Avenue Winston Churchill\, 75008 Paris \n  \n  \n  \n
URL:https://priskapasquer.art/event/fair-13-copy/
LOCATION:Grand Palais\, Avenue Winston Churchill\, 75008 Paris\, Avenue Winston Churchill\, Paris\, 75008\, France
END:VEVENT
END:VCALENDAR