BEGIN:VCALENDAR
VERSION:2.0
PRODID:-//PRISKA PASQUER - ECPv4.9.12//NONSGML v1.0//EN
CALSCALE:GREGORIAN
METHOD:PUBLISH
X-WR-CALNAME:PRISKA PASQUER
X-ORIGINAL-URL:https://priskapasquer.art
X-WR-CALDESC:Events for PRISKA PASQUER
BEGIN:VTIMEZONE
TZID:Europe/Helsinki
BEGIN:DAYLIGHT
TZOFFSETFROM:+0200
TZOFFSETTO:+0300
TZNAME:EEST
DTSTART:20180325T010000
END:DAYLIGHT
BEGIN:STANDARD
TZOFFSETFROM:+0300
TZOFFSETTO:+0200
TZNAME:EET
DTSTART:20181028T010000
END:STANDARD
END:VTIMEZONE
BEGIN:VEVENT
DTSTART;TZID=Europe/Helsinki:20181109T120000
DTEND;TZID=Europe/Helsinki:20181109T200000
DTSTAMP:20260421T175910
CREATED:20181019T154201Z
LAST-MODIFIED:20181019T154334Z
UID:24356-1541764800-1541793600@priskapasquer.art
SUMMARY:Fair
DESCRIPTION:PARIS PHOTO 2018 – Main Sector / Booth B13 \n12 noon – 8 pm \nGrand Palais\, Avenue Winston Churchill\, 75008 Paris \n
URL:https://priskapasquer.art/event/fair-5/
END:VEVENT
END:VCALENDAR