BEGIN:VCALENDAR
VERSION:2.0
PRODID:-//PRISKA PASQUER - ECPv4.9.12//NONSGML v1.0//EN
CALSCALE:GREGORIAN
METHOD:PUBLISH
X-WR-CALNAME:PRISKA PASQUER
X-ORIGINAL-URL:https://priskapasquer.art
X-WR-CALDESC:Events for PRISKA PASQUER
BEGIN:VTIMEZONE
TZID:Europe/Helsinki
BEGIN:DAYLIGHT
TZOFFSETFROM:+0200
TZOFFSETTO:+0300
TZNAME:EEST
DTSTART:20220327T010000
END:DAYLIGHT
BEGIN:STANDARD
TZOFFSETFROM:+0300
TZOFFSETTO:+0200
TZNAME:EET
DTSTART:20221030T010000
END:STANDARD
END:VTIMEZONE
BEGIN:VEVENT
DTSTART;VALUE=DATE:20221201
DTEND;VALUE=DATE:20221202
DTSTAMP:20260425T014851
CREATED:20221129T154602Z
LAST-MODIFIED:20221129T161011Z
UID:68784-1669852800-1669939199@priskapasquer.art
SUMMARY:HELP UKRAINE
DESCRIPTION:PRISKA PASQUER Cologne und neuland ventures\n“НАДIЯ – PROJECT HOPE – PROJEKT HOFFNUNG“\nDonnerstag 1\, Dezember\, 2022\, 18 Uhr\nKARL-HEINZ LAND\nTransformation & Togetherness\n18:30 Uhr\nALJOSCHA\nBioism & Paradise Engineering\n19 Uhr\nVersteigerung eines Kunstwerks von ALJOSCHA\nzugunsten HELP UKRAINE\n20:30 Uhr\n \n  \n
URL:https://priskapasquer.art/event/priska-pasquer-help-ukraine/
LOCATION:Priska Pasquer\, Cologne
ATTACH;FMTTYPE=image/jpeg:https://priskapasquer.art/wp-content/uploads/2022/11/HELP-UKRAINE.001.jpeg
END:VEVENT
END:VCALENDAR