BEGIN:VCALENDAR
VERSION:2.0
PRODID:-//PRISKA PASQUER - ECPv4.9.12//NONSGML v1.0//EN
CALSCALE:GREGORIAN
METHOD:PUBLISH
X-WR-CALNAME:PRISKA PASQUER
X-ORIGINAL-URL:https://priskapasquer.art
X-WR-CALDESC:Events for PRISKA PASQUER
BEGIN:VTIMEZONE
TZID:Europe/Helsinki
BEGIN:DAYLIGHT
TZOFFSETFROM:+0200
TZOFFSETTO:+0300
TZNAME:EEST
DTSTART:20220327T010000
END:DAYLIGHT
BEGIN:STANDARD
TZOFFSETFROM:+0300
TZOFFSETTO:+0200
TZNAME:EET
DTSTART:20221030T010000
END:STANDARD
END:VTIMEZONE
BEGIN:VEVENT
DTSTART;VALUE=DATE:20220510
DTEND;VALUE=DATE:20220516
DTSTAMP:20260425T033727
CREATED:20220325T113427Z
LAST-MODIFIED:20220510T082505Z
UID:56357-1652140800-1652659199@priskapasquer.art
SUMMARY:PARIS
DESCRIPTION:PRISKA PASQUER PARIS\nPIETER HUGO\nBEAUTY AND ASYMMETRY\nMay 10 – 15\, 2022\nOpen from 11 am to 8 pm\nDaily reception at 6 pm\n \n  \n
URL:https://priskapasquer.art/event/priska-pasquer-paris-pieter-hugo/
LOCATION:PRISKA PASQUER PARIS\, 6 rue des Coutures Saint-Gervais\, Paris\, 75003\, France
END:VEVENT
END:VCALENDAR