BEGIN:VCALENDAR
VERSION:2.0
PRODID:-//PRISKA PASQUER - ECPv4.9.12//NONSGML v1.0//EN
CALSCALE:GREGORIAN
METHOD:PUBLISH
X-WR-CALNAME:PRISKA PASQUER
X-ORIGINAL-URL:https://priskapasquer.art
X-WR-CALDESC:Events for PRISKA PASQUER
BEGIN:VTIMEZONE
TZID:Europe/Helsinki
BEGIN:DAYLIGHT
TZOFFSETFROM:+0200
TZOFFSETTO:+0300
TZNAME:EEST
DTSTART:20240331T010000
END:DAYLIGHT
BEGIN:STANDARD
TZOFFSETFROM:+0300
TZOFFSETTO:+0200
TZNAME:EET
DTSTART:20241027T010000
END:STANDARD
END:VTIMEZONE
BEGIN:VEVENT
DTSTART;VALUE=DATE:20241013
DTEND;VALUE=DATE:20241111
DTSTAMP:20260424T224739
CREATED:20240830T083419Z
LAST-MODIFIED:20240830T083826Z
UID:102130-1728777600-1731283199@priskapasquer.art
SUMMARY:PARIS
DESCRIPTION:PRISKA PASQUER PARIS\nPABLO PICASSO\nTimeless innovation – Innovation Intemporelle\n&\nLeiko Ikemura\, Radenko Milak\, Aljoscha\, Zohar Fraiman\nOctober 12 – November 10\, 2024\nOpen from 11 am to 7 pm\n \n
URL:https://priskapasquer.art/event/priska-pasquer-paris-timeless-innovation-1/
LOCATION:PRISKA PASQUER PARIS\, 6 rue des Coutures Saint-Gervais\, Paris\, 75003\, France
END:VEVENT
END:VCALENDAR